BEGIN:VCALENDAR
VERSION:2.0
PRODID:-//Asbury Park Historical Society - ECPv6.15.9//NONSGML v1.0//EN
CALSCALE:GREGORIAN
METHOD:PUBLISH
X-ORIGINAL-URL:https://www.aphistoricalsociety.org
X-WR-CALDESC:Events for Asbury Park Historical Society
REFRESH-INTERVAL;VALUE=DURATION:PT1H
X-Robots-Tag:noindex
X-PUBLISHED-TTL:PT1H
BEGIN:VTIMEZONE
TZID:America/New_York
BEGIN:DAYLIGHT
TZOFFSETFROM:-0500
TZOFFSETTO:-0400
TZNAME:EDT
DTSTART:20230312T070000
END:DAYLIGHT
BEGIN:STANDARD
TZOFFSETFROM:-0400
TZOFFSETTO:-0500
TZNAME:EST
DTSTART:20231105T060000
END:STANDARD
BEGIN:DAYLIGHT
TZOFFSETFROM:-0500
TZOFFSETTO:-0400
TZNAME:EDT
DTSTART:20240310T070000
END:DAYLIGHT
BEGIN:STANDARD
TZOFFSETFROM:-0400
TZOFFSETTO:-0500
TZNAME:EST
DTSTART:20241103T060000
END:STANDARD
BEGIN:DAYLIGHT
TZOFFSETFROM:-0500
TZOFFSETTO:-0400
TZNAME:EDT
DTSTART:20250309T070000
END:DAYLIGHT
BEGIN:STANDARD
TZOFFSETFROM:-0400
TZOFFSETTO:-0500
TZNAME:EST
DTSTART:20251102T060000
END:STANDARD
END:VTIMEZONE
BEGIN:VEVENT
DTSTART;TZID=America/New_York:20241030T183000
DTEND;TZID=America/New_York:20241030T183000
DTSTAMP:20260419T081431
CREATED:20241002T174616Z
LAST-MODIFIED:20241002T174649Z
UID:2315-1730313000-1730313000@www.aphistoricalsociety.org
SUMMARY:Edgar Allan Poe Readings to celebrate the Halloween Season
DESCRIPTION:It will be “Mischief Night” at the Stephen Crane House\, 508 4th Avenue\, Asbury Park on Wednesday\, October 30\, at 7 PM. We will continue our tradition of Edgar Allan Poe readings to celebrate both the Halloween season and Stephen Crane’s 153rd birthday. It seems strange that two great American authors with such wildly disparate writing styles should be somehow linked. The Poe-Crane connection is due to yet another great American author. It was the 21-year-old Willa Cather who met the 23-year-old Stephen Crane in Lincoln\, Nebraska\, who first made the connection. According to Cather\, Stephen had a copy of Poe’s short stories with him. Both Poe and Crane had such a prolific amount of writing produced in their short lives. Poe died at the age of 40 in 1849; Crane died at age 28 a half century later. We will be reading two gruesome short stories by Mr. Poe: “The Black Cat” and “The Cask of Amontillado”. Both stories involve Poe’s obsession with “immurement”: walled imprisonment as a form of execution. After the readings\, we will have refreshments in keeping with the Halloween season and including a birthday cake for Stephen Crane. For those who dare to remain\, we will have a screening of “Edgar Allan Poe’s Tales of Terror” with Vincent Price\, Peter Lorre\, and Basil Rathbone. \nWe invite all members of the Asbury Park Historical Society to join us gratis but encourage non-members to attend with a donation in any amount. Doors open at 6:30 PM with the program to begin at 7 PM. Hope to see you there!
URL:https://www.aphistoricalsociety.org/event/poe-readings/
LOCATION:The Stephen Crane House\, 508 4th Ave.\, Asbury Park\, New Jersey\, 07712\, United States
CATEGORIES:APHS Events
ATTACH;FMTTYPE=image/png:https://www.aphistoricalsociety.org/wp-content/uploads/2024/10/The-Black-Cat.png
END:VEVENT
END:VCALENDAR